BEGIN:VCALENDAR
VERSION:2.0
PRODID:-//BRF Slottet - ECPv5.2.1//NONSGML v1.0//EN
CALSCALE:GREGORIAN
METHOD:PUBLISH
X-WR-CALNAME:BRF Slottet
X-ORIGINAL-URL:https://slottet.hsbbrfwebb.se
X-WR-CALDESC:Events for BRF Slottet
BEGIN:VTIMEZONE
TZID:Europe/Paris
BEGIN:DAYLIGHT
TZOFFSETFROM:+0100
TZOFFSETTO:+0200
TZNAME:CEST
DTSTART:20180325T010000
END:DAYLIGHT
BEGIN:STANDARD
TZOFFSETFROM:+0200
TZOFFSETTO:+0100
TZNAME:CET
DTSTART:20181028T010000
END:STANDARD
END:VTIMEZONE
BEGIN:VEVENT
DTSTART;TZID=Europe/Paris:20180130T180000
DTEND;TZID=Europe/Paris:20180130T210000
DTSTAMP:20260422T150211
CREATED:20180119T150157Z
LAST-MODIFIED:20180119T150157Z
UID:660-1517335200-1517346000@slottet.hsbbrfwebb.se
SUMMARY:Årsmöte
DESCRIPTION:Detaljer
URL:https://slottet.hsbbrfwebb.se/event/arsmote/
END:VEVENT
END:VCALENDAR