BEGIN:VCALENDAR
VERSION:2.0
PRODID:-//BRF Slottet - ECPv5.2.1//NONSGML v1.0//EN
CALSCALE:GREGORIAN
METHOD:PUBLISH
X-WR-CALNAME:BRF Slottet
X-ORIGINAL-URL:https://slottet.hsbbrfwebb.se
X-WR-CALDESC:Events for BRF Slottet
BEGIN:VTIMEZONE
TZID:Europe/Paris
BEGIN:DAYLIGHT
TZOFFSETFROM:+0100
TZOFFSETTO:+0200
TZNAME:CEST
DTSTART:20180325T010000
END:DAYLIGHT
BEGIN:STANDARD
TZOFFSETFROM:+0200
TZOFFSETTO:+0100
TZNAME:CET
DTSTART:20181028T010000
END:STANDARD
END:VTIMEZONE
BEGIN:VEVENT
DTSTART;TZID=Europe/Paris:20180917T170000
DTEND;TZID=Europe/Paris:20180917T193000
DTSTAMP:20260422T145235
CREATED:20180809T085640Z
LAST-MODIFIED:20180809T085640Z
UID:808-1537203600-1537212600@slottet.hsbbrfwebb.se
SUMMARY:Styrelsemöte
DESCRIPTION:
URL:https://slottet.hsbbrfwebb.se/event/styrelsemote-2/
END:VEVENT
END:VCALENDAR